BEGIN:VCALENDAR
VERSION:2.0
PRODID:SchoolNow
CALSCALE:GREGORIAN
BEGIN:VEVENT
UID:e834fe7a-d22f-11e8-930c-0aa54ffc196e
DTSTAMP:20181017T173713Z
SUMMARY:No School - Teacher In-service Day
DESCRIPTION:No School - Teacher In-service Day
URL;VALUE=URI:https://www.rsu16.org/calendar/1891882/no-school-teacher-in-s
 ervice-day
DTSTART:20181005T171200Z
DTEND:20181005T181200Z
END:VEVENT
END:VCALENDAR
