BEGIN:VCALENDAR
VERSION:2.0
PRODID:SchoolNow
CALSCALE:GREGORIAN
BEGIN:VEVENT
UID:0a8ceeb0-d230-11e8-9663-1283ec49043e
DTSTAMP:20181017T173741Z
SUMMARY:No School - Teacher In-service Day
DESCRIPTION:No School - Teacher In-service Day
URL;VALUE=URI:https://www.rsu16.org/calendar/1891883/no-school-teacher-in-s
 ervice-day-clone
DTSTART:20181109T181200Z
DTEND:20181109T201200Z
END:VEVENT
END:VCALENDAR
