BEGIN:VCALENDAR
VERSION:2.0
PRODID:SchoolNow
CALSCALE:GREGORIAN
BEGIN:VEVENT
UID:1f7223b8-d230-11e8-8130-1283ec49043e
DTSTAMP:20181017T173946Z
SUMMARY:No School - Teacher In-service Day
DESCRIPTION:No School - Teacher In-service Day
URL;VALUE=URI:https://www.rsu16.org/calendar/1891884/no-school-teacher-in-s
 ervice-day-clone
DTSTART:20190122T181200Z
DTEND:20190122T201200Z
END:VEVENT
END:VCALENDAR
