BEGIN:VCALENDAR
VERSION:2.0
PRODID:SchoolNow
CALSCALE:GREGORIAN
BEGIN:VEVENT
UID:c62784c2-d231-11e8-856f-125d17acd584
DTSTAMP:20181017T173727Z
SUMMARY:Holiday - Columbus Day
DESCRIPTION:No School
URL;VALUE=URI:https://www.rsu16.org/calendar/1891889/holiday-columbus-day
DTSTART:20181008T172500Z
DTEND:20181008T182500Z
END:VEVENT
END:VCALENDAR
