BEGIN:VCALENDAR
VERSION:2.0
PRODID:SchoolNow
CALSCALE:GREGORIAN
BEGIN:VEVENT
UID:ea4907ae-d231-11e8-88cd-12dd34521a5a
DTSTAMP:20181017T173812Z
SUMMARY:Holiday - Veteran's Day
DESCRIPTION:No School
URL;VALUE=URI:https://www.rsu16.org/calendar/1891891/holiday-veterans-day
DTSTART:20181112T182600Z
DTEND:20181112T192600Z
END:VEVENT
END:VCALENDAR
