BEGIN:VCALENDAR
VERSION:2.0
PRODID:SchoolNow
CALSCALE:GREGORIAN
BEGIN:VEVENT
UID:0ee713a8-d232-11e8-97c8-12e3d38ab4ba
DTSTAMP:20181017T173830Z
SUMMARY:Holiday - Thanksgiving
DESCRIPTION:No School
URL;VALUE=URI:https://www.rsu16.org/calendar/1891892/holiday-thanksgiving
DTSTART:20181122T182700Z
DTEND:20181123T192700Z
END:VEVENT
END:VCALENDAR
