BEGIN:VCALENDAR
VERSION:2.0
PRODID:SchoolNow
CALSCALE:GREGORIAN
BEGIN:VEVENT
UID:30bc5d30-d232-11e8-a51d-12dd34521a5a
DTSTAMP:20181017T173846Z
SUMMARY:Holiday - Christmas
DESCRIPTION:No School
URL;VALUE=URI:https://www.rsu16.org/calendar/1891893/holiday-christmas
DTSTART:20181225T182800Z
DTEND:20181225T192800Z
END:VEVENT
END:VCALENDAR
