BEGIN:VCALENDAR
VERSION:2.0
PRODID:SchoolNow
CALSCALE:GREGORIAN
BEGIN:VEVENT
UID:4999bb54-d232-11e8-a16e-12ffcb40f56e
DTSTAMP:20181017T173906Z
SUMMARY:Holiday - New Year's Day
DESCRIPTION:No School
URL;VALUE=URI:https://www.rsu16.org/calendar/1891894/holiday-new-years-day
DTSTART:20190101T182900Z
DTEND:20190101T192900Z
END:VEVENT
END:VCALENDAR
