BEGIN:VCALENDAR
VERSION:2.0
PRODID:SchoolNow
CALSCALE:GREGORIAN
BEGIN:VEVENT
UID:6daf2bfa-d232-11e8-a7a3-0a1354a28224
DTSTAMP:20181017T173929Z
SUMMARY:Holiday - Martin Luther King\, Jr. Day
DESCRIPTION:No School
URL;VALUE=URI:https://www.rsu16.org/calendar/1891895/holiday-martin-luther-
 king-jr-day
DTSTART:20190121T183000Z
DTEND:20190121T193000Z
END:VEVENT
END:VCALENDAR
