BEGIN:VCALENDAR
VERSION:2.0
PRODID:SchoolNow
CALSCALE:GREGORIAN
BEGIN:VEVENT
UID:2045abee-d234-11e8-a010-0aa54ffc196e
DTSTAMP:20181017T174315Z
SUMMARY:Holiday - Patriot's Day
DESCRIPTION:No School
URL;VALUE=URI:https://www.rsu16.org/calendar/1891898/holiday-patriots-day
DTSTART:20190415T174200Z
DTEND:20190415T184200Z
END:VEVENT
END:VCALENDAR
