BEGIN:VCALENDAR
VERSION:2.0
PRODID:SchoolNow
CALSCALE:GREGORIAN
BEGIN:VEVENT
UID:4070720a-d234-11e8-b89d-0aa54ffc196e
DTSTAMP:20181017T174409Z
SUMMARY:Holiday - Memorial Day
URL;VALUE=URI:https://www.rsu16.org/calendar/1891899/holiday-memorial-day
DTSTART:20190527T174300Z
DTEND:20190527T184300Z
END:VEVENT
END:VCALENDAR
