BEGIN:VCALENDAR
VERSION:2.0
PRODID:SchoolNow
CALSCALE:GREGORIAN
BEGIN:VEVENT
UID:61ccd40c-d234-11e8-9e40-12e3d38ab4ba
DTSTAMP:20181017T174505Z
SUMMARY:School Vacation
DESCRIPTION:No School
URL;VALUE=URI:https://www.rsu16.org/calendar/1891902/school-vacation
DTSTART:20181121T184400Z
DTEND:20181123T194400Z
END:VEVENT
END:VCALENDAR
