BEGIN:VCALENDAR
VERSION:2.0
PRODID:SchoolNow
CALSCALE:GREGORIAN
BEGIN:VEVENT
UID:8d2d6d1e-d234-11e8-a47f-0a49d648564a
DTSTAMP:20181017T174618Z
SUMMARY:School Vacation
DESCRIPTION:No School
URL;VALUE=URI:https://www.rsu16.org/calendar/1891903/school-vacation
DTSTART:20181224T184500Z
DTEND:20181231T194500Z
END:VEVENT
END:VCALENDAR
