BEGIN:VCALENDAR
VERSION:2.0
PRODID:SchoolNow
CALSCALE:GREGORIAN
BEGIN:VEVENT
UID:aa8d3d80-d234-11e8-bb22-0af4b77dd02c
DTSTAMP:20181017T174707Z
SUMMARY:School Vacation
DESCRIPTION:No School
URL;VALUE=URI:https://www.rsu16.org/calendar/1891904/school-vacation
DTSTART:20190218T184600Z
DTEND:20190222T194600Z
END:VEVENT
END:VCALENDAR
