BEGIN:VCALENDAR
VERSION:2.0
PRODID:SchoolNow
CALSCALE:GREGORIAN
BEGIN:VEVENT
UID:c2e1e7e6-d234-11e8-803d-12ffcb40f56e
DTSTAMP:20181017T174748Z
SUMMARY:School Vacation
DESCRIPTION:No School
URL;VALUE=URI:https://www.rsu16.org/calendar/1891905/school-vacation
DTSTART:20190415T174700Z
DTEND:20190419T184700Z
END:VEVENT
END:VCALENDAR
