BEGIN:VCALENDAR
VERSION:2.0
PRODID:SchoolNow
CALSCALE:GREGORIAN
BEGIN:VEVENT
UID:767d617c-d3d4-11e8-a0fd-120a4283d0a6
DTSTAMP:20181025T145532Z
SUMMARY:School Board Meeting
DESCRIPTION:PRHS - Library
URL;VALUE=URI:https://www.rsu16.org/calendar/1893998/school-board-meeting
DTSTART:20181119T233000Z
DTEND:20181120T010000Z
END:VEVENT
END:VCALENDAR
