BEGIN:VCALENDAR
VERSION:2.0
PRODID:SchoolNow
CALSCALE:GREGORIAN
BEGIN:VEVENT
UID:8dafbcdc-d3d4-11e8-8891-12048747a896
DTSTAMP:20181207T222611Z
SUMMARY:School Board Meeting
DESCRIPTION:PRHS - Library
URL;VALUE=URI:https://www.rsu16.org/calendar/1893999/school-board-meeting-c
 lone
DTSTART:20190114T233000Z
DTEND:20190115T020000Z
END:VEVENT
END:VCALENDAR
