BEGIN:VCALENDAR
VERSION:2.0
PRODID:SchoolNow
CALSCALE:GREGORIAN
BEGIN:VEVENT
UID:9e32e642-d3d4-11e8-b9d9-0a55d3468af6
DTSTAMP:20190212T205612Z
SUMMARY:School Board Meeting
DESCRIPTION:PRHS - Library
URL;VALUE=URI:https://www.rsu16.org/calendar/1894000/school-board-meeting-c
 lone-clone
DTSTART:20190225T233000Z
DTEND:20190226T003000Z
END:VEVENT
END:VCALENDAR
