BEGIN:VCALENDAR
VERSION:2.0
PRODID:SchoolNow
CALSCALE:GREGORIAN
BEGIN:VEVENT
UID:8b68a848-d3d5-11e8-8ccc-0a55d3468af6
DTSTAMP:20181025T145706Z
SUMMARY:School Board Meeting
DESCRIPTION:PRHS - Library
URL;VALUE=URI:https://www.rsu16.org/calendar/1894001/school-board-meeting-c
 lone-clone
DTSTART:20190311T223000Z
DTEND:20190312T020000Z
END:VEVENT
END:VCALENDAR
