BEGIN:VCALENDAR
VERSION:2.0
PRODID:SchoolNow
CALSCALE:GREGORIAN
BEGIN:VEVENT
UID:e7531fb2-d3d5-11e8-ace1-128b021ff69e
DTSTAMP:20190329T165812Z
SUMMARY:School Board Meeting & Budget Approval
DESCRIPTION:PRHS - Library
URL;VALUE=URI:https://www.rsu16.org/calendar/1894002/school-board-meeting-c
 lone-clone-clone
DTSTART:20190408T223000Z
DTEND:20190409T030000Z
END:VEVENT
END:VCALENDAR
