BEGIN:VCALENDAR
VERSION:2.0
PRODID:SchoolNow
CALSCALE:GREGORIAN
BEGIN:VEVENT
UID:15e04774-d3d6-11e8-9774-0a1bf06e9c2a
DTSTAMP:20181025T145812Z
SUMMARY:School Board Meeting
DESCRIPTION:PRHS - Library
URL;VALUE=URI:https://www.rsu16.org/calendar/1894003/school-board-meeting-c
 lone-clone-clone-clone
DTSTART:20190513T223000Z
DTEND:20190514T020000Z
END:VEVENT
END:VCALENDAR
