BEGIN:VCALENDAR
VERSION:2.0
PRODID:SchoolNow
CALSCALE:GREGORIAN
BEGIN:VEVENT
UID:6c544ef4-f71a-11e8-9f57-0a2db4b58018
DTSTAMP:20181205T142311Z
SUMMARY:School Board Subcommittees Meetings
DESCRIPTION:Operations (Meets at 5pm)\nPersonnel and Finance (Meets at 6pm)
 \nEducational Policy (Meets at 7pm)
LOCATION:ESS Conference Room
URL;VALUE=URI:https://www.rsu16.org/calendar/1911818/school-board-subcommit
 tee-meetings
DTSTART:20181217T100000Z
DTEND:20181218T010000Z
END:VEVENT
END:VCALENDAR
