BEGIN:VCALENDAR
VERSION:2.0
PRODID:SchoolNow
CALSCALE:GREGORIAN
BEGIN:VEVENT
UID:b32ebbb6-f71a-11e8-b1be-0a426e6f66fc
DTSTAMP:20181205T142351Z
SUMMARY:School Board Subcommittees Meetings
DESCRIPTION:Operations  (Meets at 5pm)\nPersonnel and Finance (Meets at 6pm
 )\nEducational Policy (Meets at 7pm)
LOCATION:MCS Room 232
URL;VALUE=URI:https://www.rsu16.org/calendar/1911819/school-board-subcommit
 tee-meetings
DTSTART:20190128T220000Z
DTEND:20190129T010000Z
END:VEVENT
END:VCALENDAR
