BEGIN:VCALENDAR
VERSION:2.0
PRODID:SchoolNow
CALSCALE:GREGORIAN
BEGIN:VEVENT
UID:be401576-f71b-11e8-9e74-1252f0bcde04
DTSTAMP:20181205T142413Z
SUMMARY:School Board Subcommittees Meetings
DESCRIPTION:Operations  (Meets at 5pm)\nPersonnel and Finance (Meets at 6pm
 )\nEducational Policy (Meets at 7pm)
LOCATION:PCS Library
URL;VALUE=URI:https://www.rsu16.org/calendar/1911822/school-board-subcommit
 tee-meeting
DTSTART:20190225T220000Z
DTEND:20190226T010000Z
END:VEVENT
END:VCALENDAR
