BEGIN:VCALENDAR
VERSION:2.0
PRODID:SchoolNow
CALSCALE:GREGORIAN
BEGIN:VEVENT
UID:bd0a6a7a-f71c-11e8-a432-0a28ea52b720
DTSTAMP:20181205T142451Z
SUMMARY:School Board Subcommittees Meetings
DESCRIPTION:Operations  (Meets at 5pm)\nPersonnel and Finance (Meets at 6pm
 )\nEducational Policy (Meets at 7pm)
LOCATION:PRHS Library
URL;VALUE=URI:https://www.rsu16.org/calendar/1911828/school-board-subcommit
 tee-meeting
DTSTART:20190325T210000Z
DTEND:20190326T000000Z
END:VEVENT
END:VCALENDAR
