BEGIN:VCALENDAR
VERSION:2.0
PRODID:SchoolNow
CALSCALE:GREGORIAN
BEGIN:VEVENT
UID:b8f3f02c-f71d-11e8-863e-0a93de242a1c
DTSTAMP:20181205T142518Z
SUMMARY:School Board Subcommittees Meetings
DESCRIPTION:Operations  (Meets at 5pm)\nPersonnel and Finance (Meets at 6pm
 )\nEducational Policy (Meets at 7pm)
LOCATION:ESS Conference Room
URL;VALUE=URI:https://www.rsu16.org/calendar/1911829/school-board-subcommit
 tees-meeting
DTSTART:20190422T210000Z
DTEND:20190423T000000Z
END:VEVENT
END:VCALENDAR
