BEGIN:VCALENDAR
VERSION:2.0
PRODID:SchoolNow
CALSCALE:GREGORIAN
BEGIN:VEVENT
UID:3e013484-f721-11e8-98d7-128cde721f68
DTSTAMP:20181205T142544Z
SUMMARY:School Board Subcommittees Meetings
DESCRIPTION:Operations  (Meets at 5pm)\nPersonnel and Finance (Meets at 6pm
 )\nEducational Policy (Meets at 7pm)
LOCATION:MCS Room 232
URL;VALUE=URI:https://www.rsu16.org/calendar/1911830/school-board-subcommit
 tees-meetings
DTSTART:20190520T210000Z
DTEND:20190521T000000Z
END:VEVENT
END:VCALENDAR
