BEGIN:VCALENDAR
VERSION:2.0
PRODID:SchoolNow
CALSCALE:GREGORIAN
BEGIN:VEVENT
UID:603f6b00-fa6f-11e8-9df8-12d6439a144c
DTSTAMP:20181207T222927Z
SUMMARY:School Board Meeting
LOCATION:PRHS Library
URL;VALUE=URI:https://www.rsu16.org/calendar/1916790/school-board-meeting
DTSTART:20181210T173000Z
DTEND:20181211T020000Z
END:VEVENT
END:VCALENDAR
