BEGIN:VCALENDAR
VERSION:2.0
PRODID:SchoolNow
CALSCALE:GREGORIAN
BEGIN:VEVENT
UID:3ec7312a-4686-11e9-9e89-0ae7d9e7aef2
DTSTAMP:20190314T183627Z
SUMMARY:Special School Board Meeting
URL;VALUE=URI:https://www.rsu16.org/calendar/1955654/special-school-board-m
 eeting
DTSTART:20190319T220000Z
DTEND:20190320T010000Z
END:VEVENT
END:VCALENDAR
