BEGIN:VCALENDAR
VERSION:2.0
PRODID:SchoolNow
CALSCALE:GREGORIAN
BEGIN:VEVENT
UID:4ccd936e-4f2c-11e9-8e19-12a9de31422e
DTSTAMP:20190325T183327Z
SUMMARY:Informational Meeting
DESCRIPTION:Informational Meeting regarding the 19-20 RSU #16 School Budget
  to be held at Elm Street School on Tuesday\, March 26 @ 6:00 PM
URL;VALUE=URI:https://www.rsu16.org/calendar/1959965/informational-meeting
DTSTART:20190326T220000Z
DTEND:20190327T000000Z
END:VEVENT
END:VCALENDAR
