BEGIN:VCALENDAR
VERSION:2.0
PRODID:SchoolNow
CALSCALE:GREGORIAN
BEGIN:VEVENT
UID:9fadd9e4-5243-11e9-875f-129d6c06e2f8
DTSTAMP:20190329T165939Z
SUMMARY:PUBLIC APPROVAL/VOTE - Presentation of the 2019-20 School Budget
DESCRIPTION:District Budget Meeting at Poland Regional High School Auditori
 um
URL;VALUE=URI:https://www.rsu16.org/calendar/1961926/presentation-of-the-20
 19-20-school-budget-for-public-approval-vote
DTSTART:20190424T223000Z
DTEND:20190425T003000Z
END:VEVENT
END:VCALENDAR
