BEGIN:VCALENDAR
VERSION:2.0
PRODID:SchoolNow
CALSCALE:GREGORIAN
BEGIN:VEVENT
UID:88d89e92-5244-11e9-bc37-12581a60d21c
DTSTAMP:20190329T170311Z
SUMMARY:School Budget Referendum Vote
DESCRIPTION:At the Town Office of each Town
URL;VALUE=URI:https://www.rsu16.org/calendar/1961928/school-budget-referend
 um-vote
DTSTART:20190514T120000Z
DTEND:20190515T000000Z
END:VEVENT
END:VCALENDAR
