BEGIN:VCALENDAR
VERSION:2.0
PRODID:SchoolNow
CALSCALE:GREGORIAN
BEGIN:VEVENT
UID:983d7604-e557-11e9-8468-0a688cafc902
DTSTAMP:20191002T210551Z
SUMMARY:Veteran's Day
URL;VALUE=URI:https://www.rsu16.org/calendar/2112517/veterans-day
DTSTART:20191111T095900Z
DTEND:20191111T225900Z
END:VEVENT
END:VCALENDAR
