BEGIN:VCALENDAR
VERSION:2.0
PRODID:SchoolNow
CALSCALE:GREGORIAN
BEGIN:VEVENT
UID:c143fcd0-e557-11e9-b185-0a688cafc902
DTSTAMP:20191002T210107Z
SUMMARY:In-Service Day - No School
URL;VALUE=URI:https://www.rsu16.org/calendar/2112518/in-service-day-no-scho
 ol
DTSTART:20191127T100000Z
DTEND:20191128T045900Z
END:VEVENT
END:VCALENDAR
