BEGIN:VCALENDAR
VERSION:2.0
PRODID:SchoolNow
CALSCALE:GREGORIAN
BEGIN:VEVENT
UID:585db766-2020-11ea-8de4-1295520da5fd
DTSTAMP:20191216T162308Z
SUMMARY:School Christmas Break
URL;VALUE=URI:https://www.rsu16.org/calendar/2160823/school-christmas-break
DTSTART:20191223T050000Z
DTEND:20200103T045500Z
END:VEVENT
END:VCALENDAR
