BEGIN:VCALENDAR
VERSION:2.0
PRODID:SchoolNow
CALSCALE:GREGORIAN
BEGIN:VEVENT
UID:e1794c9a-2020-11ea-bdd5-12fdb498b087
DTSTAMP:20191216T162658Z
SUMMARY:Martin Luther King Jr Day
URL;VALUE=URI:https://www.rsu16.org/calendar/2160824/martin-luther-king-jr-
 day
DTSTART:20200120T050000Z
DTEND:20200121T045500Z
END:VEVENT
END:VCALENDAR
