BEGIN:VCALENDAR
VERSION:2.0
PRODID:SchoolNow
CALSCALE:GREGORIAN
BEGIN:VEVENT
UID:373c7ec2-2021-11ea-9b2c-12fdb498b087
DTSTAMP:20191216T163146Z
SUMMARY:February School Vacation
URL;VALUE=URI:https://www.rsu16.org/calendar/2160825/february-school-vacati
 on
DTSTART:20200217T050000Z
DTEND:20200222T045500Z
END:VEVENT
END:VCALENDAR
