BEGIN:VCALENDAR
VERSION:2.0
PRODID:SchoolNow
CALSCALE:GREGORIAN
BEGIN:VEVENT
UID:796f487e-2021-11ea-b03e-12fdb498b087
DTSTAMP:20191216T163113Z
SUMMARY:April School Vacation
URL;VALUE=URI:https://www.rsu16.org/calendar/2160826/april-school-vacation
DTSTART:20200420T040000Z
DTEND:20200425T035500Z
END:VEVENT
END:VCALENDAR
