BEGIN:VCALENDAR
VERSION:2.0
PRODID:SchoolNow
CALSCALE:GREGORIAN
BEGIN:VEVENT
UID:b4007030-2021-11ea-b11c-12fdb498b087
DTSTAMP:20191216T163251Z
SUMMARY:Memorial Day
URL;VALUE=URI:https://www.rsu16.org/calendar/2160827/memorial-day
DTSTART:20200525T040000Z
DTEND:20200526T035500Z
END:VEVENT
END:VCALENDAR
