BEGIN:VCALENDAR
VERSION:2.0
PRODID:SchoolNow
CALSCALE:GREGORIAN
BEGIN:VEVENT
UID:e4f3b2b4-202c-11ea-a4d7-0aeb52069a57
DTSTAMP:20191216T175825Z
SUMMARY:School Board Meeting
URL;VALUE=URI:https://www.rsu16.org/calendar/2160831/school-board-meeting
DTSTART:20200113T233000Z
DTEND:20200114T045500Z
END:VEVENT
END:VCALENDAR
