BEGIN:VCALENDAR
VERSION:2.0
PRODID:SchoolNow
CALSCALE:GREGORIAN
BEGIN:VEVENT
UID:06253f66-202d-11ea-b842-0aeb52069a57
DTSTAMP:20191216T175911Z
SUMMARY:School Board Meeting
URL;VALUE=URI:https://www.rsu16.org/calendar/2160832/school-board-meeting
DTSTART:20200210T233000Z
DTEND:20200211T045500Z
END:VEVENT
END:VCALENDAR
