BEGIN:VCALENDAR
VERSION:2.0
PRODID:SchoolNow
CALSCALE:GREGORIAN
BEGIN:VEVENT
UID:263da342-202d-11ea-8c65-0aeb52069a57
DTSTAMP:20191216T175940Z
SUMMARY:School Board Meeting
URL;VALUE=URI:https://www.rsu16.org/calendar/2160833/school-board-meeting
DTSTART:20200309T223000Z
DTEND:20200310T035500Z
END:VEVENT
END:VCALENDAR
