BEGIN:VCALENDAR
VERSION:2.0
PRODID:SchoolNow
CALSCALE:GREGORIAN
BEGIN:VEVENT
UID:f4c83c36-202d-11ea-b93e-129fe9ea6241
DTSTAMP:20191216T180034Z
SUMMARY:School Board Meeting
URL;VALUE=URI:https://www.rsu16.org/calendar/2160835/school-board-meeting
DTSTART:20200413T223000Z
DTEND:20200413T230000Z
END:VEVENT
END:VCALENDAR
