BEGIN:VCALENDAR
VERSION:2.0
PRODID:SchoolNow
CALSCALE:GREGORIAN
BEGIN:VEVENT
UID:08545370-202e-11ea-a04f-129fe9ea6241
DTSTAMP:20191216T180106Z
SUMMARY:School Board Meeting
URL;VALUE=URI:https://www.rsu16.org/calendar/2160836/school-board-meeting
DTSTART:20200511T223000Z
DTEND:20200511T230000Z
END:VEVENT
END:VCALENDAR
