BEGIN:VCALENDAR
VERSION:2.0
PRODID:SchoolNow
CALSCALE:GREGORIAN
BEGIN:VEVENT
UID:8f3662a6-1df0-11ef-85ce-0a58a9feac02
DTSTAMP:20251216T214628Z
SUMMARY:Early Release Wednesday: 2:10 Dismissal
URL;VALUE=URI:https://www.rsu16.org/ess/calendar/6046691/early-release-wedn
 esday-2-10-dismissal
DTSTART;VALUE=DATE:20251119
DTEND;VALUE=DATE:20251120
END:VEVENT
END:VCALENDAR
