BEGIN:VCALENDAR
VERSION:2.0
PRODID:SchoolNow
CALSCALE:GREGORIAN
BEGIN:VEVENT
UID:b17756ae-5dd8-11ef-9e19-0ec2c8ddfc5b
DTSTAMP:20251216T214628Z
SUMMARY:Early Release Wednesday: 2:10 Dismissal
URL;VALUE=URI:https://www.rsu16.org/ess/calendar/6423833/early-release-wedn
 esday-2-10-dismissal
DTSTART;VALUE=DATE:20260325
DTEND;VALUE=DATE:20260326
END:VEVENT
END:VCALENDAR
