BEGIN:VCALENDAR
VERSION:2.0
PRODID:SchoolNow
CALSCALE:GREGORIAN
BEGIN:VEVENT
UID:9a876fc8-a12c-11ef-af0f-0ec3a4324a35
DTSTAMP:20251216T214628Z
SUMMARY:Early Release Wednesday: 2:10 Dismissal
URL;VALUE=URI:https://www.rsu16.org/ess/calendar/7008065/early-release-wedn
 esday-2-10-dismissal
DTSTART;VALUE=DATE:20260617
DTEND;VALUE=DATE:20260618
END:VEVENT
END:VCALENDAR
