BEGIN:VCALENDAR
VERSION:2.0
PRODID:SchoolNow
CALSCALE:GREGORIAN
BEGIN:VEVENT
UID:38729946-fd31-11ef-89e5-02e308fab35d
DTSTAMP:20251216T214628Z
SUMMARY:Early Release Wednesday: 2:10 Dismissal
URL;VALUE=URI:https://www.rsu16.org/ess/calendar/7642764/early-release-wedn
 esday-2-10-dismissal
DTSTART;VALUE=DATE:20260729
DTEND;VALUE=DATE:20260730
END:VEVENT
END:VCALENDAR
