BEGIN:VCALENDAR
VERSION:2.0
PRODID:SchoolNow
CALSCALE:GREGORIAN
BEGIN:VEVENT
UID:3895ce70-fd31-11ef-b21a-02e308fab35d
DTSTAMP:20251216T214628Z
SUMMARY:Early Release Wednesday: 2:10 Dismissal
URL;VALUE=URI:https://www.rsu16.org/ess/calendar/7642832/early-release-wedn
 esday-2-10-dismissal
DTSTART;VALUE=DATE:20260826
DTEND;VALUE=DATE:20260827
END:VEVENT
END:VCALENDAR
