BEGIN:VCALENDAR
VERSION:2.0
PRODID:SchoolNow
CALSCALE:GREGORIAN
BEGIN:VEVENT
UID:3895d9ba-fd31-11ef-b015-02e308fab35d
DTSTAMP:20251216T214628Z
SUMMARY:Early Release Wednesday: 2:10 Dismissal
URL;VALUE=URI:https://www.rsu16.org/ess/calendar/7642842/early-release-wedn
 esday-2-10-dismissal
DTSTART;VALUE=DATE:20260930
DTEND;VALUE=DATE:20261001
END:VEVENT
END:VCALENDAR
